BEGIN:VCALENDAR
VERSION:2.0
PRODID:-//Plone.org//NONSGML plone.app.event//EN
X-WR-TIMEZONE:America/Denver
BEGIN:VEVENT
SUMMARY:Trail Stewardship: Horsethief Park Workday #4
DTSTART;VALUE=DATE-TIME:20220910T080000
DTEND;VALUE=DATE-TIME:20220910T170000
DTSTAMP;VALUE=DATE-TIME:20260422T104250Z
UID:90df6fa2fd0a4cf29da553bdc036926d@localhost:6081
CREATED;VALUE=DATE-TIME:20220811T160025Z
DESCRIPTION:This project will continue work on the reroute a part of the t
 rail into Horsethief Park\, where an encroachment onto private property wa
 s recently discovered. This project is in partnership with Friends of the 
 Peak.
LAST-MODIFIED;VALUE=DATE-TIME:20260322T212327Z
LOCATION:Horsethief park trailhead
URL:https://www.cmc.org/community/front-range-groups/pikes-peak/upcoming-p
 ikes-peak-group-events-trips-and-courses/conservation-horsethief-park-work
 -day-3-2022-09-10
END:VEVENT
BEGIN:VTIMEZONE
TZID:America/Denver
X-LIC-LOCATION:America/Denver
BEGIN:DAYLIGHT
DTSTART;VALUE=DATE-TIME:20220313T030000
TZNAME:MDT
TZOFFSETFROM:-0700
TZOFFSETTO:-0600
END:DAYLIGHT
END:VTIMEZONE
END:VCALENDAR
