BEGIN:VCALENDAR
PRODID:-//Mountaineers.org//ICalendar Support
VERSION:2.0
METHOD:PUBLISH
BEGIN:VEVENT
DTSTAMP:20260423T083132Z
CREATED:20260302T015651Z
UID:ATEvent-b5e4d86ddec643728ad34792bc4c2a64
LAST-MODIFIED:20260302T015651Z
SUMMARY:Bike – Deer Creek Canyon Park - Plymouth Mountain
DTSTART:20260427T060000Z
DTEND:20260428T055900Z
DESCRIPTION:After work advanced/expert MTB ride at deer creek canyon p
 ark
CATEGORIES:Bike, Trip,  Trip
CLASS:PUBLIC
END:VEVENT
BEGIN:VEVENT
DTSTAMP:20260423T083132Z
CREATED:20260416T133508Z
UID:ATEvent-f86a9b03039344feb2cc1fb550b282be
LAST-MODIFIED:20260416T133647Z
SUMMARY:Bike – Twin Lakes – Clear Ck west to Anderson Park
DTSTART:20260501T060000Z
DTEND:20260502T055900Z
DESCRIPTION:We be riding out and back on the Clear Creek Trail from Tw
 in Lakes Park to Prospect Park (not Anderson Park)
CATEGORIES:Bike, Trip, RMOTHG, Rocky Mountain Over The Hill Gang
CLASS:PUBLIC
END:VEVENT
BEGIN:VEVENT
DTSTAMP:20260423T083132Z
CREATED:20260407T135008Z
UID:ATEvent-31d85f2067c1411f9ed2e50f96e7cd45
LAST-MODIFIED:20260421T155833Z
SUMMARY:Bike – South Table Mountain
DTSTART:20260505T060000Z
DTEND:20260506T055900Z
DESCRIPTION:**rescheduled to Tuesday** After work beginner mountain bi
 ke/gravel ride around the perimeter of South table mountain
CATEGORIES:Bike, Trip,  Trip
CLASS:PUBLIC
END:VEVENT
BEGIN:VEVENT
DTSTAMP:20260423T083132Z
CREATED:20260401T213932Z
UID:ATEvent-42a1c319fa8749c6af38e4aa7f3a19ce
LAST-MODIFIED:20260410T173508Z
SUMMARY:Bike – Twin Lakes - Clear Ck\, Platte River north to 104th
DTSTART:20260508T060000Z
DTEND:20260509T055900Z
DESCRIPTION:We’ll ride from Twin Lakes Park to Elaine Valente Open Spa
 ce and back along Clear Creek and Platte River Trails. The pace will b
 e early-season casual.
CATEGORIES:Bike, Trip, Rocky Mountian Over the Hill Gang, rmothg, RMOTHG 
CLASS:PUBLIC
END:VEVENT
BEGIN:VEVENT
DTSTAMP:20260423T083132Z
CREATED:20260331T224531Z
UID:ATEvent-aee1808afcb9438ba2eeca3c5efdc491
LAST-MODIFIED:20260401T173450Z
SUMMARY:Bike – Buffalo Creek Recreation Area
DTSTART:20260508T060000Z
DTEND:20260511T055900Z
DESCRIPTION:Spend two nights & 3 days at Buffalo Creek to test out bik
 e packing kit\, add hoc mountain biking and generally having fun.  Cam
 psites are not reservable so available on a first come first serve bas
 is.  Intent will be to spend one day testing out bike packing kit and 
 two days mountain biking unloaded.  Feel free to sign up for only part
  of the weekend.
CATEGORIES:Bike, Trip,  Trip
CLASS:PUBLIC
END:VEVENT
BEGIN:VEVENT
DTSTAMP:20260423T083132Z
CREATED:20260421T160712Z
UID:ATEvent-c6e8224e653947c7a55e12649004e89c
LAST-MODIFIED:20260421T160833Z
SUMMARY:Bike – Ridgeline Open Space Park
DTSTART:20260511T060000Z
DTEND:20260512T055900Z
DESCRIPTION:After work mountain bike at Ridgeline open space park\, Ca
 stle Rock
CATEGORIES:Bike, Trip,  Trip
CLASS:PUBLIC
END:VEVENT
BEGIN:VEVENT
DTSTAMP:20260423T083132Z
CREATED:20260331T224829Z
UID:ATEvent-51b23bd9222a4385bbddb92e64980385
LAST-MODIFIED:20260416T140159Z
SUMMARY:Bike – Waterton Canyon
DTSTART:20260512T060000Z
DTEND:20260513T055900Z
DESCRIPTION:Tuesday\, May 12th (ORIGINALLY SCHEDULED FOR MAY 1st) meet
  at Waterton Canyon Parking\, Littleton\, CO 80125. The bike ride begi
 ns on Waterton Road at the south end of Chatfield Reservoir adjacent t
 o the South Platte River. From there\, we will ride west along Waterto
 n Canyon\, a well compacted dirt road to Strontia Springs Dam. Then\, 
 we will reverse our direction and return the way we traveled. The ride
  is approximately 14 miles with an elevation gain of about 300 feet.
CATEGORIES:Bike, Trip, RMOTHG, RMOTHG 
CLASS:PUBLIC
END:VEVENT
BEGIN:VEVENT
DTSTAMP:20260423T083132Z
CREATED:20260401T212219Z
UID:ATEvent-aebb0e7b8d674fe09d861ed409f99596
LAST-MODIFIED:20260401T212219Z
SUMMARY:Bike – River Point - Platte River Trail to REI
DTSTART:20260515T060000Z
DTEND:20260516T055900Z
DESCRIPTION:We'll ride along the Platte River Trail from the parking l
 ot by Chili’s to REI\, and return via the same route for a RT distance
  of about 18 miles. The ride is along a paved bike trail. The pace for
  the ride will average about 10 to 12 mph.  There will be an optional 
 lunch at Chilis after the ride.
CATEGORIES:Bike, Trip,  Trip
CLASS:PUBLIC
END:VEVENT
BEGIN:VEVENT
DTSTAMP:20260423T083132Z
CREATED:20260421T020710Z
UID:ATEvent-e3154ffeb5374123b030dbea2e2431ef
LAST-MODIFIED:20260421T020710Z
SUMMARY:Bike – Poudre River Trail
DTSTART:20260517T060000Z
DTEND:20260518T055900Z
DESCRIPTION:This is a round trip bike tour on the paved Poudre River t
 rail.  We will begin at the CSU Environmental Learning Center and bike
  the recently opened sections of the trail to Windsor\, and return.  S
 peed will be casual and we will stop at interesting points.
CATEGORIES:Bike, Trip,  Trip
CLASS:PUBLIC
END:VEVENT
BEGIN:VEVENT
DTSTAMP:20260423T083132Z
CREATED:20260406T160141Z
UID:ATEvent-ca3dbe41c30d4badb97ca5204aa18451
LAST-MODIFIED:20260406T160754Z
SUMMARY:Bike – Cherry Creek North to the Highline Canal
DTSTART:20260522T060000Z
DTEND:20260523T055900Z
DESCRIPTION:This is a Rocky Mountain Over The Hill Gang "Terrapin" out
  & back bike ride from The Original Brooklyn's Restaurant to Platte Ri
 ver Trail onto Cherry Creek Trail to Cook Recreation Center on the Hig
 hland Canal Trail and back.
CATEGORIES:Bike, Trip, RMOTHG
CLASS:PUBLIC
END:VEVENT
BEGIN:VEVENT
DTSTAMP:20260423T083132Z
CREATED:20260401T220838Z
UID:ATEvent-6b3965b6a69c4adeafa9d118fa9d4435
LAST-MODIFIED:20260401T220838Z
SUMMARY:Bike – Lakewood gulch\, Garrison\, Sanderson gulch\, Platte River trail loop
DTSTART:20260522T060000Z
DTEND:20260523T055900Z
DESCRIPTION:We'll ride west along Lakewood Gulch and the bike path par
 alleling the train tracks to Garrison Street\, South to Florida\, east
  to get on Sanderson Gulch back to the Platte River Trail\, and north 
 to return to the start for a distance of about 19.5 miles. The ride is
  along paved bike trail trails and city streets. The pace for the ride
  will average about 10 to 12 mph. There will be an optional lunch at t
 he Original Brooklyn’s after the ride.
CATEGORIES:Bike, Trip,  Trip
CLASS:PUBLIC
END:VEVENT
BEGIN:VEVENT
DTSTAMP:20260423T083132Z
CREATED:20260127T040810Z
UID:ATEvent-08699bc2e8ea4457a6a4ef33a889e845
LAST-MODIFIED:20260214T040803Z
SUMMARY:Bike – Independence Pass
DTSTART:20260522T060000Z
DTEND:20260524T055900Z
DESCRIPTION:Overnight bikepacking tour from buena vista to glenwood sp
 rings by way of independence pass with an overnight at an aspen hotel.
 
CATEGORIES:Bike, Trip,  Trip
CLASS:PUBLIC
END:VEVENT
BEGIN:VEVENT
DTSTAMP:20260423T083132Z
CREATED:20260313T144603Z
UID:ATEvent-1fb9376e5dd24da3857bf535ef49f4f9
LAST-MODIFIED:20260313T144603Z
SUMMARY:Bike – Hildebrand Ranch Park
DTSTART:20260601T060000Z
DTEND:20260602T055900Z
DESCRIPTION:After work easy mountain bike ride.
CATEGORIES:Bike, Trip,  Trip
CLASS:PUBLIC
END:VEVENT
BEGIN:VEVENT
DTSTAMP:20260423T083132Z
CREATED:20260410T172203Z
UID:ATEvent-a3cf887a46894730a2f436b6d18eb6cf
LAST-MODIFIED:20260410T172802Z
SUMMARY:Bike – Cherry Creek\, Highline canal\, Dartmouth\, Platte River loop
DTSTART:20260612T060000Z
DTEND:20260613T055900Z
DESCRIPTION:From The Original Brooklyns restaurant we will ride to Con
 fluence Park. Then we will continue on the Cherry Creek Trail to Downi
 ng St. to Washington Park to Franklyn St. to Dartmouth Ave. to the Pla
 tte River Trail. We will then ride north on the Platte River Trail to 
 complete the loop.
CATEGORIES:Bike, Trip, Rocky Mountain Over The Hill Gang, rmothg
CLASS:PUBLIC
END:VEVENT
BEGIN:VEVENT
DTSTAMP:20260423T083132Z
CREATED:20260214T044935Z
UID:ATEvent-46da6121028e463aa44818912459aecc
LAST-MODIFIED:20260401T135825Z
SUMMARY:Bike – George S. Mickelson Trail
DTSTART:20260619T060000Z
DTEND:20260622T055900Z
DESCRIPTION:Overnight Bike packing trip/ bike tour through the Black H
 ills of South Dakota.  This will be a gravel route on a rails-to trail
 s bike path.
CATEGORIES:Bike, Trip,  Trip
CLASS:PUBLIC
END:VEVENT
END:VCALENDAR
