BEGIN:VCALENDAR
VERSION:2.0
PRODID:-//Plone.org//NONSGML plone.app.event//EN
X-WR-TIMEZONE:America/Denver
BEGIN:VEVENT
SUMMARY:Family Climb Night - February 2026
DTSTART;VALUE=DATE-TIME:20260227T160000
DTEND;VALUE=DATE-TIME:20260227T190000
DTSTAMP;VALUE=DATE-TIME:20260423T023233Z
UID:c50916fd74c840788be03e195ed0d6b6@localhost:6081
CREATED;VALUE=DATE-TIME:20240821T222430Z
DESCRIPTION:Join the Youth Programs Team for a night of indoor climbing at
  the *NEW* CMC Basecamp Climbing Wall! \nFree for members and $5/person fo
 r non-members. \nEquipment and instruction provided\, no experience necess
 ary!
LAST-MODIFIED;VALUE=DATE-TIME:20260219T172255Z
LOCATION:CMC Basecamp
URL:https://www.cmc.org/events/copy19_of_family-climb-night-september-2024
END:VEVENT
BEGIN:VTIMEZONE
TZID:America/Denver
X-LIC-LOCATION:America/Denver
BEGIN:STANDARD
DTSTART;VALUE=DATE-TIME:20251102T010000
TZNAME:MST
TZOFFSETFROM:-0600
TZOFFSETTO:-0700
END:STANDARD
END:VTIMEZONE
END:VCALENDAR
