BEGIN:VCALENDAR
VERSION:2.0
PRODID:-//Plone.org//NONSGML plone.app.event//EN
X-WR-TIMEZONE:America/Denver
BEGIN:VEVENT
SUMMARY:Fueling the Summit: Nutrition & Hydration Strategies for High-Alti
 tude Adventures
DTSTART;VALUE=DATE-TIME:20251001T170000
DTEND;VALUE=DATE-TIME:20251001T181500
DTSTAMP;VALUE=DATE-TIME:20260422T173719Z
UID:30a00e69388e47ce94f4df0048f6bb42@localhost:6081
CREATED;VALUE=DATE-TIME:20250909T211641Z
DESCRIPTION:OPEN TO ALL. Discover how to optimize your energy and performa
 nce during outdoor activities at elevation. This workshop will cover pract
 ical strategies for meeting your caloric needs\, managing hydration\, and 
 choosing foods that support stamina and resilience in high-altitude enviro
 nments.
LAST-MODIFIED;VALUE=DATE-TIME:20250930T231033Z
LOCATION:CMC Basecamp
URL:https://www.cmc.org/events/fueling-the-summit-nutrition-hydration-stra
 tegies-for-high-altitude-adventures
END:VEVENT
BEGIN:VTIMEZONE
TZID:America/Denver
X-LIC-LOCATION:America/Denver
BEGIN:DAYLIGHT
DTSTART;VALUE=DATE-TIME:20250309T030000
TZNAME:MDT
TZOFFSETFROM:-0700
TZOFFSETTO:-0600
END:DAYLIGHT
END:VTIMEZONE
END:VCALENDAR
