BEGIN:VCALENDAR
VERSION:2.0
PRODID:-//Plone.org//NONSGML plone.app.event//EN
X-WR-TIMEZONE:America/Denver
BEGIN:VEVENT
SUMMARY:Info Night at CMC
DTSTART;VALUE=DATE-TIME:20251022T183000
DTEND;VALUE=DATE-TIME:20251022T203000
DTSTAMP;VALUE=DATE-TIME:20260422T160619Z
UID:49a0d87ff9014fc6bb02a2e871727bc0@localhost:6081
CREATED;VALUE=DATE-TIME:20250529T224455Z
DESCRIPTION:Join us in person to learn more about the Colorado Mountain Cl
 ub and find your next great adventure! Open to all current members\, new m
 embers\, and prospective guests.
LAST-MODIFIED;VALUE=DATE-TIME:20251017T151607Z
LOCATION:CMC Basecamp
URL:https://www.cmc.org/events/new-prospective-member-night-november-2023-
 2024-02-27-2024-04-17-2024-05-15-2024-06-18-2024-07-17-2024-08-21-2024-09-
 18-2024-10-16-2025-04-16-2025-05-14-2025-06-26-2025-07-16-2025-08-20-2025-
 09-17-2025-10-15
END:VEVENT
BEGIN:VTIMEZONE
TZID:America/Denver
X-LIC-LOCATION:America/Denver
BEGIN:DAYLIGHT
DTSTART;VALUE=DATE-TIME:20250309T030000
TZNAME:MDT
TZOFFSETFROM:-0700
TZOFFSETTO:-0600
END:DAYLIGHT
END:VTIMEZONE
END:VCALENDAR
