BEGIN:VCALENDAR
VERSION:2.0
PRODID:-//Plone.org//NONSGML plone.app.event//EN
X-WR-TIMEZONE:America/Denver
BEGIN:VEVENT
SUMMARY:New & Prospective Member Night
DTSTART;VALUE=DATE-TIME:20231018T183000
DTEND;VALUE=DATE-TIME:20231018T200000
DTSTAMP;VALUE=DATE-TIME:20260421T064810Z
UID:d8c0ae72bfe04092b96262ce64cde445@localhost:6081
CREATED;VALUE=DATE-TIME:20230906T191323Z
DESCRIPTION:Join us in person to learn more about the Colorado Mountain Cl
 ub and find your next great adventure!
LAST-MODIFIED;VALUE=DATE-TIME:20231017T195525Z
LOCATION:American Mountaineering Center
URL:https://www.cmc.org/events/new-prospective-member-night-october-2023
END:VEVENT
BEGIN:VTIMEZONE
TZID:America/Denver
X-LIC-LOCATION:America/Denver
BEGIN:DAYLIGHT
DTSTART;VALUE=DATE-TIME:20230312T030000
TZNAME:MDT
TZOFFSETFROM:-0700
TZOFFSETTO:-0600
END:DAYLIGHT
END:VTIMEZONE
END:VCALENDAR
