BEGIN:VCALENDAR
VERSION:2.0
PRODID:-//Plone.org//NONSGML plone.app.event//EN
X-WR-TIMEZONE:America/Denver
BEGIN:VEVENT
SUMMARY:Roder Education Fund Annual Dinner
DTSTART;VALUE=DATE-TIME:20221013T180000
DTEND;VALUE=DATE-TIME:20221013T203000
DTSTAMP;VALUE=DATE-TIME:20260423T023038Z
UID:09c0ba228a3949719a6c78319e9d4ecf@localhost:6081
CREATED;VALUE=DATE-TIME:20220906T203404Z
DESCRIPTION:The Eckart Roder Fund provides scholarships for CMC volunteer 
 instructors\, leaders\, and schools to further their education and trainin
 g. This is an evening of sharing food\, stories\, and supporting continued
  education at CMC.
LAST-MODIFIED;VALUE=DATE-TIME:20221014T162408Z
LOCATION:American Mountaineering Center Conference Rooms
URL:https://www.cmc.org/events/roder-education-fund-annual-dinner
END:VEVENT
BEGIN:VTIMEZONE
TZID:America/Denver
X-LIC-LOCATION:America/Denver
BEGIN:DAYLIGHT
DTSTART;VALUE=DATE-TIME:20220313T030000
TZNAME:MDT
TZOFFSETFROM:-0700
TZOFFSETTO:-0600
END:DAYLIGHT
END:VTIMEZONE
END:VCALENDAR
